BEGIN:VCALENDAR
VERSION:2.0
PRODID:-//Carers of East Lothian - ECPv6.15.20//NONSGML v1.0//EN
CALSCALE:GREGORIAN
METHOD:PUBLISH
X-ORIGINAL-URL:https://www.coel.org.uk
X-WR-CALDESC:Events for Carers of East Lothian
REFRESH-INTERVAL;VALUE=DURATION:PT1H
X-Robots-Tag:noindex
X-PUBLISHED-TTL:PT1H
BEGIN:VTIMEZONE
TZID:Europe/London
BEGIN:DAYLIGHT
TZOFFSETFROM:+0000
TZOFFSETTO:+0100
TZNAME:BST
DTSTART:20240331T010000
END:DAYLIGHT
BEGIN:STANDARD
TZOFFSETFROM:+0100
TZOFFSETTO:+0000
TZNAME:GMT
DTSTART:20241027T010000
END:STANDARD
BEGIN:DAYLIGHT
TZOFFSETFROM:+0000
TZOFFSETTO:+0100
TZNAME:BST
DTSTART:20250330T010000
END:DAYLIGHT
BEGIN:STANDARD
TZOFFSETFROM:+0100
TZOFFSETTO:+0000
TZNAME:GMT
DTSTART:20251026T010000
END:STANDARD
BEGIN:DAYLIGHT
TZOFFSETFROM:+0000
TZOFFSETTO:+0100
TZNAME:BST
DTSTART:20260329T010000
END:DAYLIGHT
BEGIN:STANDARD
TZOFFSETFROM:+0100
TZOFFSETTO:+0000
TZNAME:GMT
DTSTART:20261025T010000
END:STANDARD
BEGIN:DAYLIGHT
TZOFFSETFROM:+0000
TZOFFSETTO:+0100
TZNAME:BST
DTSTART:20270328T010000
END:DAYLIGHT
BEGIN:STANDARD
TZOFFSETFROM:+0100
TZOFFSETTO:+0000
TZNAME:GMT
DTSTART:20271031T010000
END:STANDARD
END:VTIMEZONE
BEGIN:VEVENT
DTSTART;TZID=Europe/London:20260424T113000
DTEND;TZID=Europe/London:20260424T130000
DTSTAMP:20260426T053954
CREATED:20260413T143514Z
LAST-MODIFIED:20260413T143514Z
UID:10002274-1777030200-1777035600@www.coel.org.uk
SUMMARY:Yoga for carers
DESCRIPTION:In late 2025\, we ran some yoga sessions for carers with Anna from Flowering Cactus. The sessions were very well received. Anna has offered to run some more sessions between April and June. Carers are welcome to attend one\, two or all three of the sessions. \nThe sessions will offer a welcoming\, mat-based yoga class with a focus on grounding\, breath\, some foundational seated and standing postures with time for relaxation and a cup of tea too. All levels of practice welcome\, participants should be able to comfortably move up and down from the mat. \nReply to this email to request a space\, or call us on 01316650135.
URL:https://www.coel.org.uk/event/yoga-for-carers/2026-04-24/
LOCATION:East Lothian Community Hospital\, Alderston Road\, Haddington\, EH41 3PF
ATTACH;FMTTYPE=image/png:https://www.coel.org.uk/wp-content/uploads/2026/04/Yoga-Taster-Sessions-April-June-2026.png
END:VEVENT
BEGIN:VEVENT
DTSTART;TZID=Europe/London:20260422T133000
DTEND;TZID=Europe/London:20260422T150000
DTSTAMP:20260426T053954
CREATED:20231127T161943Z
LAST-MODIFIED:20251223T080827Z
UID:10001012-1776864600-1776870000@www.coel.org.uk
SUMMARY:Care To Sing - Singing Group for Carers
DESCRIPTION:Our weekly Carers Singing Group is held at East Lothian Community Hospital in the Community Hall. Please contact our Volunteer Jenny on jennyswanvolunteer@coel.org.uk if you are interested in participating.
URL:https://www.coel.org.uk/event/care-to-sing-singing-group-for-carers/2026-04-22/
LOCATION:East Lothian Community Hospital\, Alderston Road\, Haddington\, EH41 3PF
ATTACH;FMTTYPE=image/png:https://www.coel.org.uk/wp-content/uploads/2023/11/Care-To-Sing-Poster-1-1.png
END:VEVENT
BEGIN:VEVENT
DTSTART;TZID=Europe/London:20260415T133000
DTEND;TZID=Europe/London:20260415T150000
DTSTAMP:20260426T053954
CREATED:20231127T161943Z
LAST-MODIFIED:20251223T080827Z
UID:10001011-1776259800-1776265200@www.coel.org.uk
SUMMARY:Care To Sing - Singing Group for Carers
DESCRIPTION:Our weekly Carers Singing Group is held at East Lothian Community Hospital in the Community Hall. Please contact our Volunteer Jenny on jennyswanvolunteer@coel.org.uk if you are interested in participating.
URL:https://www.coel.org.uk/event/care-to-sing-singing-group-for-carers/2026-04-15/
LOCATION:East Lothian Community Hospital\, Alderston Road\, Haddington\, EH41 3PF
ATTACH;FMTTYPE=image/png:https://www.coel.org.uk/wp-content/uploads/2023/11/Care-To-Sing-Poster-1-1.png
END:VEVENT
BEGIN:VEVENT
DTSTART;TZID=Europe/London:20260408T133000
DTEND;TZID=Europe/London:20260408T150000
DTSTAMP:20260426T053954
CREATED:20231127T161943Z
LAST-MODIFIED:20251223T080827Z
UID:10001010-1775655000-1775660400@www.coel.org.uk
SUMMARY:Care To Sing - Singing Group for Carers
DESCRIPTION:Our weekly Carers Singing Group is held at East Lothian Community Hospital in the Community Hall. Please contact our Volunteer Jenny on jennyswanvolunteer@coel.org.uk if you are interested in participating.
URL:https://www.coel.org.uk/event/care-to-sing-singing-group-for-carers/2026-04-08/
LOCATION:East Lothian Community Hospital\, Alderston Road\, Haddington\, EH41 3PF
ATTACH;FMTTYPE=image/png:https://www.coel.org.uk/wp-content/uploads/2023/11/Care-To-Sing-Poster-1-1.png
END:VEVENT
BEGIN:VEVENT
DTSTART;TZID=Europe/London:20260401T133000
DTEND;TZID=Europe/London:20260401T150000
DTSTAMP:20260426T053954
CREATED:20231127T161943Z
LAST-MODIFIED:20251223T080827Z
UID:10001009-1775050200-1775055600@www.coel.org.uk
SUMMARY:Care To Sing - Singing Group for Carers
DESCRIPTION:Our weekly Carers Singing Group is held at East Lothian Community Hospital in the Community Hall. Please contact our Volunteer Jenny on jennyswanvolunteer@coel.org.uk if you are interested in participating.
URL:https://www.coel.org.uk/event/care-to-sing-singing-group-for-carers/2026-04-01/
LOCATION:East Lothian Community Hospital\, Alderston Road\, Haddington\, EH41 3PF
ATTACH;FMTTYPE=image/png:https://www.coel.org.uk/wp-content/uploads/2023/11/Care-To-Sing-Poster-1-1.png
END:VEVENT
BEGIN:VEVENT
DTSTART;TZID=Europe/London:20260325T133000
DTEND;TZID=Europe/London:20260325T150000
DTSTAMP:20260426T053954
CREATED:20231127T161943Z
LAST-MODIFIED:20251223T080827Z
UID:10001008-1774445400-1774450800@www.coel.org.uk
SUMMARY:Care To Sing - Singing Group for Carers
DESCRIPTION:Our weekly Carers Singing Group is held at East Lothian Community Hospital in the Community Hall. Please contact our Volunteer Jenny on jennyswanvolunteer@coel.org.uk if you are interested in participating.
URL:https://www.coel.org.uk/event/care-to-sing-singing-group-for-carers/2026-03-25/
LOCATION:East Lothian Community Hospital\, Alderston Road\, Haddington\, EH41 3PF
ATTACH;FMTTYPE=image/png:https://www.coel.org.uk/wp-content/uploads/2023/11/Care-To-Sing-Poster-1-1.png
END:VEVENT
BEGIN:VEVENT
DTSTART;TZID=Europe/London:20260318T133000
DTEND;TZID=Europe/London:20260318T150000
DTSTAMP:20260426T053954
CREATED:20231127T161943Z
LAST-MODIFIED:20251223T080827Z
UID:10001007-1773840600-1773846000@www.coel.org.uk
SUMMARY:Care To Sing - Singing Group for Carers
DESCRIPTION:Our weekly Carers Singing Group is held at East Lothian Community Hospital in the Community Hall. Please contact our Volunteer Jenny on jennyswanvolunteer@coel.org.uk if you are interested in participating.
URL:https://www.coel.org.uk/event/care-to-sing-singing-group-for-carers/2026-03-18/
LOCATION:East Lothian Community Hospital\, Alderston Road\, Haddington\, EH41 3PF
ATTACH;FMTTYPE=image/png:https://www.coel.org.uk/wp-content/uploads/2023/11/Care-To-Sing-Poster-1-1.png
END:VEVENT
BEGIN:VEVENT
DTSTART;TZID=Europe/London:20260311T133000
DTEND;TZID=Europe/London:20260311T150000
DTSTAMP:20260426T053954
CREATED:20231127T161943Z
LAST-MODIFIED:20251223T080827Z
UID:10001006-1773235800-1773241200@www.coel.org.uk
SUMMARY:Care To Sing - Singing Group for Carers
DESCRIPTION:Our weekly Carers Singing Group is held at East Lothian Community Hospital in the Community Hall. Please contact our Volunteer Jenny on jennyswanvolunteer@coel.org.uk if you are interested in participating.
URL:https://www.coel.org.uk/event/care-to-sing-singing-group-for-carers/2026-03-11/
LOCATION:East Lothian Community Hospital\, Alderston Road\, Haddington\, EH41 3PF
ATTACH;FMTTYPE=image/png:https://www.coel.org.uk/wp-content/uploads/2023/11/Care-To-Sing-Poster-1-1.png
END:VEVENT
BEGIN:VEVENT
DTSTART;TZID=Europe/London:20260304T133000
DTEND;TZID=Europe/London:20260304T150000
DTSTAMP:20260426T053954
CREATED:20231127T161943Z
LAST-MODIFIED:20251223T080827Z
UID:10001005-1772631000-1772636400@www.coel.org.uk
SUMMARY:Care To Sing - Singing Group for Carers
DESCRIPTION:Our weekly Carers Singing Group is held at East Lothian Community Hospital in the Community Hall. Please contact our Volunteer Jenny on jennyswanvolunteer@coel.org.uk if you are interested in participating.
URL:https://www.coel.org.uk/event/care-to-sing-singing-group-for-carers/2026-03-04/
LOCATION:East Lothian Community Hospital\, Alderston Road\, Haddington\, EH41 3PF
ATTACH;FMTTYPE=image/png:https://www.coel.org.uk/wp-content/uploads/2023/11/Care-To-Sing-Poster-1-1.png
END:VEVENT
BEGIN:VEVENT
DTSTART;TZID=Europe/London:20260225T133000
DTEND;TZID=Europe/London:20260225T150000
DTSTAMP:20260426T053954
CREATED:20231127T161943Z
LAST-MODIFIED:20251223T080827Z
UID:10001004-1772026200-1772031600@www.coel.org.uk
SUMMARY:Care To Sing - Singing Group for Carers
DESCRIPTION:Our weekly Carers Singing Group is held at East Lothian Community Hospital in the Community Hall. Please contact our Volunteer Jenny on jennyswanvolunteer@coel.org.uk if you are interested in participating.
URL:https://www.coel.org.uk/event/care-to-sing-singing-group-for-carers/2026-02-25/
LOCATION:East Lothian Community Hospital\, Alderston Road\, Haddington\, EH41 3PF
ATTACH;FMTTYPE=image/png:https://www.coel.org.uk/wp-content/uploads/2023/11/Care-To-Sing-Poster-1-1.png
END:VEVENT
BEGIN:VEVENT
DTSTART;TZID=Europe/London:20260218T133000
DTEND;TZID=Europe/London:20260218T150000
DTSTAMP:20260426T053954
CREATED:20231127T161943Z
LAST-MODIFIED:20251223T080827Z
UID:10001003-1771421400-1771426800@www.coel.org.uk
SUMMARY:Care To Sing - Singing Group for Carers
DESCRIPTION:Our weekly Carers Singing Group is held at East Lothian Community Hospital in the Community Hall. Please contact our Volunteer Jenny on jennyswanvolunteer@coel.org.uk if you are interested in participating.
URL:https://www.coel.org.uk/event/care-to-sing-singing-group-for-carers/2026-02-18/
LOCATION:East Lothian Community Hospital\, Alderston Road\, Haddington\, EH41 3PF
ATTACH;FMTTYPE=image/png:https://www.coel.org.uk/wp-content/uploads/2023/11/Care-To-Sing-Poster-1-1.png
END:VEVENT
BEGIN:VEVENT
DTSTART;TZID=Europe/London:20260211T133000
DTEND;TZID=Europe/London:20260211T150000
DTSTAMP:20260426T053954
CREATED:20231127T161943Z
LAST-MODIFIED:20251223T080827Z
UID:10001002-1770816600-1770822000@www.coel.org.uk
SUMMARY:Care To Sing - Singing Group for Carers
DESCRIPTION:Our weekly Carers Singing Group is held at East Lothian Community Hospital in the Community Hall. Please contact our Volunteer Jenny on jennyswanvolunteer@coel.org.uk if you are interested in participating.
URL:https://www.coel.org.uk/event/care-to-sing-singing-group-for-carers/2026-02-11/
LOCATION:East Lothian Community Hospital\, Alderston Road\, Haddington\, EH41 3PF
ATTACH;FMTTYPE=image/png:https://www.coel.org.uk/wp-content/uploads/2023/11/Care-To-Sing-Poster-1-1.png
END:VEVENT
BEGIN:VEVENT
DTSTART;TZID=Europe/London:20260204T133000
DTEND;TZID=Europe/London:20260204T150000
DTSTAMP:20260426T053954
CREATED:20231127T161943Z
LAST-MODIFIED:20251223T080827Z
UID:10001001-1770211800-1770217200@www.coel.org.uk
SUMMARY:Care To Sing - Singing Group for Carers
DESCRIPTION:Our weekly Carers Singing Group is held at East Lothian Community Hospital in the Community Hall. Please contact our Volunteer Jenny on jennyswanvolunteer@coel.org.uk if you are interested in participating.
URL:https://www.coel.org.uk/event/care-to-sing-singing-group-for-carers/2026-02-04/
LOCATION:East Lothian Community Hospital\, Alderston Road\, Haddington\, EH41 3PF
ATTACH;FMTTYPE=image/png:https://www.coel.org.uk/wp-content/uploads/2023/11/Care-To-Sing-Poster-1-1.png
END:VEVENT
BEGIN:VEVENT
DTSTART;TZID=Europe/London:20260128T133000
DTEND;TZID=Europe/London:20260128T150000
DTSTAMP:20260426T053954
CREATED:20231127T161943Z
LAST-MODIFIED:20251223T080827Z
UID:10001000-1769607000-1769612400@www.coel.org.uk
SUMMARY:Care To Sing - Singing Group for Carers
DESCRIPTION:Our weekly Carers Singing Group is held at East Lothian Community Hospital in the Community Hall. Please contact our Volunteer Jenny on jennyswanvolunteer@coel.org.uk if you are interested in participating.
URL:https://www.coel.org.uk/event/care-to-sing-singing-group-for-carers/2026-01-28/
LOCATION:East Lothian Community Hospital\, Alderston Road\, Haddington\, EH41 3PF
ATTACH;FMTTYPE=image/png:https://www.coel.org.uk/wp-content/uploads/2023/11/Care-To-Sing-Poster-1-1.png
END:VEVENT
BEGIN:VEVENT
DTSTART;TZID=Europe/London:20260121T133000
DTEND;TZID=Europe/London:20260121T150000
DTSTAMP:20260426T053954
CREATED:20231127T161943Z
LAST-MODIFIED:20251223T080827Z
UID:10000999-1769002200-1769007600@www.coel.org.uk
SUMMARY:Care To Sing - Singing Group for Carers
DESCRIPTION:Our weekly Carers Singing Group is held at East Lothian Community Hospital in the Community Hall. Please contact our Volunteer Jenny on jennyswanvolunteer@coel.org.uk if you are interested in participating.
URL:https://www.coel.org.uk/event/care-to-sing-singing-group-for-carers/2026-01-21/
LOCATION:East Lothian Community Hospital\, Alderston Road\, Haddington\, EH41 3PF
ATTACH;FMTTYPE=image/png:https://www.coel.org.uk/wp-content/uploads/2023/11/Care-To-Sing-Poster-1-1.png
END:VEVENT
BEGIN:VEVENT
DTSTART;TZID=Europe/London:20260114T133000
DTEND;TZID=Europe/London:20260114T150000
DTSTAMP:20260426T053954
CREATED:20231127T161943Z
LAST-MODIFIED:20251223T080827Z
UID:10000998-1768397400-1768402800@www.coel.org.uk
SUMMARY:Care To Sing - Singing Group for Carers
DESCRIPTION:Our weekly Carers Singing Group is held at East Lothian Community Hospital in the Community Hall. Please contact our Volunteer Jenny on jennyswanvolunteer@coel.org.uk if you are interested in participating.
URL:https://www.coel.org.uk/event/care-to-sing-singing-group-for-carers/2026-01-14/
LOCATION:East Lothian Community Hospital\, Alderston Road\, Haddington\, EH41 3PF
ATTACH;FMTTYPE=image/png:https://www.coel.org.uk/wp-content/uploads/2023/11/Care-To-Sing-Poster-1-1.png
END:VEVENT
BEGIN:VEVENT
DTSTART;TZID=Europe/London:20260107T133000
DTEND;TZID=Europe/London:20260107T150000
DTSTAMP:20260426T053954
CREATED:20231127T161943Z
LAST-MODIFIED:20251223T080827Z
UID:10000997-1767792600-1767798000@www.coel.org.uk
SUMMARY:Care To Sing - Singing Group for Carers
DESCRIPTION:Our weekly Carers Singing Group is held at East Lothian Community Hospital in the Community Hall. Please contact our Volunteer Jenny on jennyswanvolunteer@coel.org.uk if you are interested in participating.
URL:https://www.coel.org.uk/event/care-to-sing-singing-group-for-carers/2026-01-07/
LOCATION:East Lothian Community Hospital\, Alderston Road\, Haddington\, EH41 3PF
ATTACH;FMTTYPE=image/png:https://www.coel.org.uk/wp-content/uploads/2023/11/Care-To-Sing-Poster-1-1.png
END:VEVENT
BEGIN:VEVENT
DTSTART;TZID=Europe/London:20251217T133000
DTEND;TZID=Europe/London:20251217T150000
DTSTAMP:20260426T053954
CREATED:20231127T161943Z
LAST-MODIFIED:20251223T080827Z
UID:10000994-1765978200-1765983600@www.coel.org.uk
SUMMARY:Care To Sing - Singing Group for Carers
DESCRIPTION:Our weekly Carers Singing Group is held at East Lothian Community Hospital in the Community Hall. Please contact our Volunteer Jenny on jennyswanvolunteer@coel.org.uk if you are interested in participating.
URL:https://www.coel.org.uk/event/care-to-sing-singing-group-for-carers/2025-12-17/
LOCATION:East Lothian Community Hospital\, Alderston Road\, Haddington\, EH41 3PF
ATTACH;FMTTYPE=image/png:https://www.coel.org.uk/wp-content/uploads/2023/11/Care-To-Sing-Poster-1-1.png
END:VEVENT
BEGIN:VEVENT
DTSTART;TZID=Europe/London:20251210T133000
DTEND;TZID=Europe/London:20251210T150000
DTSTAMP:20260426T053954
CREATED:20231127T161943Z
LAST-MODIFIED:20251223T080827Z
UID:10000993-1765373400-1765378800@www.coel.org.uk
SUMMARY:Care To Sing - Singing Group for Carers
DESCRIPTION:Our weekly Carers Singing Group is held at East Lothian Community Hospital in the Community Hall. Please contact our Volunteer Jenny on jennyswanvolunteer@coel.org.uk if you are interested in participating.
URL:https://www.coel.org.uk/event/care-to-sing-singing-group-for-carers/2025-12-10/
LOCATION:East Lothian Community Hospital\, Alderston Road\, Haddington\, EH41 3PF
ATTACH;FMTTYPE=image/png:https://www.coel.org.uk/wp-content/uploads/2023/11/Care-To-Sing-Poster-1-1.png
END:VEVENT
BEGIN:VEVENT
DTSTART;TZID=Europe/London:20251203T133000
DTEND;TZID=Europe/London:20251203T150000
DTSTAMP:20260426T053954
CREATED:20231127T161943Z
LAST-MODIFIED:20251223T080827Z
UID:10000992-1764768600-1764774000@www.coel.org.uk
SUMMARY:Care To Sing - Singing Group for Carers
DESCRIPTION:Our weekly Carers Singing Group is held at East Lothian Community Hospital in the Community Hall. Please contact our Volunteer Jenny on jennyswanvolunteer@coel.org.uk if you are interested in participating.
URL:https://www.coel.org.uk/event/care-to-sing-singing-group-for-carers/2025-12-03/
LOCATION:East Lothian Community Hospital\, Alderston Road\, Haddington\, EH41 3PF
ATTACH;FMTTYPE=image/png:https://www.coel.org.uk/wp-content/uploads/2023/11/Care-To-Sing-Poster-1-1.png
END:VEVENT
BEGIN:VEVENT
DTSTART;TZID=Europe/London:20251126T133000
DTEND;TZID=Europe/London:20251126T150000
DTSTAMP:20260426T053954
CREATED:20231127T161943Z
LAST-MODIFIED:20251223T080827Z
UID:10000991-1764163800-1764169200@www.coel.org.uk
SUMMARY:Care To Sing - Singing Group for Carers
DESCRIPTION:Our weekly Carers Singing Group is held at East Lothian Community Hospital in the Community Hall. Please contact our Volunteer Jenny on jennyswanvolunteer@coel.org.uk if you are interested in participating.
URL:https://www.coel.org.uk/event/care-to-sing-singing-group-for-carers/2025-11-26/
LOCATION:East Lothian Community Hospital\, Alderston Road\, Haddington\, EH41 3PF
ATTACH;FMTTYPE=image/png:https://www.coel.org.uk/wp-content/uploads/2023/11/Care-To-Sing-Poster-1-1.png
END:VEVENT
BEGIN:VEVENT
DTSTART;TZID=Europe/London:20251119T133000
DTEND;TZID=Europe/London:20251119T150000
DTSTAMP:20260426T053954
CREATED:20231127T161943Z
LAST-MODIFIED:20251223T080827Z
UID:10000990-1763559000-1763564400@www.coel.org.uk
SUMMARY:Care To Sing - Singing Group for Carers
DESCRIPTION:Our weekly Carers Singing Group is held at East Lothian Community Hospital in the Community Hall. Please contact our Volunteer Jenny on jennyswanvolunteer@coel.org.uk if you are interested in participating.
URL:https://www.coel.org.uk/event/care-to-sing-singing-group-for-carers/2025-11-19/
LOCATION:East Lothian Community Hospital\, Alderston Road\, Haddington\, EH41 3PF
ATTACH;FMTTYPE=image/png:https://www.coel.org.uk/wp-content/uploads/2023/11/Care-To-Sing-Poster-1-1.png
END:VEVENT
BEGIN:VEVENT
DTSTART;TZID=Europe/London:20251112T133000
DTEND;TZID=Europe/London:20251112T150000
DTSTAMP:20260426T053954
CREATED:20231127T161943Z
LAST-MODIFIED:20251223T080827Z
UID:10000989-1762954200-1762959600@www.coel.org.uk
SUMMARY:Care To Sing - Singing Group for Carers
DESCRIPTION:Our weekly Carers Singing Group is held at East Lothian Community Hospital in the Community Hall. Please contact our Volunteer Jenny on jennyswanvolunteer@coel.org.uk if you are interested in participating.
URL:https://www.coel.org.uk/event/care-to-sing-singing-group-for-carers/2025-11-12/
LOCATION:East Lothian Community Hospital\, Alderston Road\, Haddington\, EH41 3PF
ATTACH;FMTTYPE=image/png:https://www.coel.org.uk/wp-content/uploads/2023/11/Care-To-Sing-Poster-1-1.png
END:VEVENT
BEGIN:VEVENT
DTSTART;TZID=Europe/London:20251105T133000
DTEND;TZID=Europe/London:20251105T150000
DTSTAMP:20260426T053954
CREATED:20231127T161943Z
LAST-MODIFIED:20251223T080827Z
UID:10000988-1762349400-1762354800@www.coel.org.uk
SUMMARY:Care To Sing - Singing Group for Carers
DESCRIPTION:Our weekly Carers Singing Group is held at East Lothian Community Hospital in the Community Hall. Please contact our Volunteer Jenny on jennyswanvolunteer@coel.org.uk if you are interested in participating.
URL:https://www.coel.org.uk/event/care-to-sing-singing-group-for-carers/2025-11-05/
LOCATION:East Lothian Community Hospital\, Alderston Road\, Haddington\, EH41 3PF
ATTACH;FMTTYPE=image/png:https://www.coel.org.uk/wp-content/uploads/2023/11/Care-To-Sing-Poster-1-1.png
END:VEVENT
BEGIN:VEVENT
DTSTART;TZID=Europe/London:20251029T133000
DTEND;TZID=Europe/London:20251029T150000
DTSTAMP:20260426T053954
CREATED:20231127T161943Z
LAST-MODIFIED:20251223T080827Z
UID:10000987-1761744600-1761750000@www.coel.org.uk
SUMMARY:Care To Sing - Singing Group for Carers
DESCRIPTION:Our weekly Carers Singing Group is held at East Lothian Community Hospital in the Community Hall. Please contact our Volunteer Jenny on jennyswanvolunteer@coel.org.uk if you are interested in participating.
URL:https://www.coel.org.uk/event/care-to-sing-singing-group-for-carers/2025-10-29/
LOCATION:East Lothian Community Hospital\, Alderston Road\, Haddington\, EH41 3PF
ATTACH;FMTTYPE=image/png:https://www.coel.org.uk/wp-content/uploads/2023/11/Care-To-Sing-Poster-1-1.png
END:VEVENT
BEGIN:VEVENT
DTSTART;TZID=Europe/London:20251022T133000
DTEND;TZID=Europe/London:20251022T150000
DTSTAMP:20260426T053954
CREATED:20231127T161943Z
LAST-MODIFIED:20251223T080827Z
UID:10000986-1761139800-1761145200@www.coel.org.uk
SUMMARY:Care To Sing - Singing Group for Carers
DESCRIPTION:Our weekly Carers Singing Group is held at East Lothian Community Hospital in the Community Hall. Please contact our Volunteer Jenny on jennyswanvolunteer@coel.org.uk if you are interested in participating.
URL:https://www.coel.org.uk/event/care-to-sing-singing-group-for-carers/2025-10-22/
LOCATION:East Lothian Community Hospital\, Alderston Road\, Haddington\, EH41 3PF
ATTACH;FMTTYPE=image/png:https://www.coel.org.uk/wp-content/uploads/2023/11/Care-To-Sing-Poster-1-1.png
END:VEVENT
BEGIN:VEVENT
DTSTART;TZID=Europe/London:20251015T133000
DTEND;TZID=Europe/London:20251015T150000
DTSTAMP:20260426T053954
CREATED:20231127T161943Z
LAST-MODIFIED:20251223T080827Z
UID:10000985-1760535000-1760540400@www.coel.org.uk
SUMMARY:Care To Sing - Singing Group for Carers
DESCRIPTION:Our weekly Carers Singing Group is held at East Lothian Community Hospital in the Community Hall. Please contact our Volunteer Jenny on jennyswanvolunteer@coel.org.uk if you are interested in participating.
URL:https://www.coel.org.uk/event/care-to-sing-singing-group-for-carers/2025-10-15/
LOCATION:East Lothian Community Hospital\, Alderston Road\, Haddington\, EH41 3PF
ATTACH;FMTTYPE=image/png:https://www.coel.org.uk/wp-content/uploads/2023/11/Care-To-Sing-Poster-1-1.png
END:VEVENT
BEGIN:VEVENT
DTSTART;TZID=Europe/London:20251008T133000
DTEND;TZID=Europe/London:20251008T150000
DTSTAMP:20260426T053954
CREATED:20231127T161943Z
LAST-MODIFIED:20251223T080827Z
UID:10000984-1759930200-1759935600@www.coel.org.uk
SUMMARY:Care To Sing - Singing Group for Carers
DESCRIPTION:Our weekly Carers Singing Group is held at East Lothian Community Hospital in the Community Hall. Please contact our Volunteer Jenny on jennyswanvolunteer@coel.org.uk if you are interested in participating.
URL:https://www.coel.org.uk/event/care-to-sing-singing-group-for-carers/2025-10-08/
LOCATION:East Lothian Community Hospital\, Alderston Road\, Haddington\, EH41 3PF
ATTACH;FMTTYPE=image/png:https://www.coel.org.uk/wp-content/uploads/2023/11/Care-To-Sing-Poster-1-1.png
END:VEVENT
BEGIN:VEVENT
DTSTART;TZID=Europe/London:20251001T133000
DTEND;TZID=Europe/London:20251001T150000
DTSTAMP:20260426T053954
CREATED:20231127T161943Z
LAST-MODIFIED:20251223T080827Z
UID:10000983-1759325400-1759330800@www.coel.org.uk
SUMMARY:Care To Sing - Singing Group for Carers
DESCRIPTION:Our weekly Carers Singing Group is held at East Lothian Community Hospital in the Community Hall. Please contact our Volunteer Jenny on jennyswanvolunteer@coel.org.uk if you are interested in participating.
URL:https://www.coel.org.uk/event/care-to-sing-singing-group-for-carers/2025-10-01/
LOCATION:East Lothian Community Hospital\, Alderston Road\, Haddington\, EH41 3PF
ATTACH;FMTTYPE=image/png:https://www.coel.org.uk/wp-content/uploads/2023/11/Care-To-Sing-Poster-1-1.png
END:VEVENT
BEGIN:VEVENT
DTSTART;TZID=Europe/London:20250924T133000
DTEND;TZID=Europe/London:20250924T150000
DTSTAMP:20260426T053954
CREATED:20231127T161943Z
LAST-MODIFIED:20251223T080827Z
UID:10000982-1758720600-1758726000@www.coel.org.uk
SUMMARY:Care To Sing - Singing Group for Carers
DESCRIPTION:Our weekly Carers Singing Group is held at East Lothian Community Hospital in the Community Hall. Please contact our Volunteer Jenny on jennyswanvolunteer@coel.org.uk if you are interested in participating.
URL:https://www.coel.org.uk/event/care-to-sing-singing-group-for-carers/2025-09-24/
LOCATION:East Lothian Community Hospital\, Alderston Road\, Haddington\, EH41 3PF
ATTACH;FMTTYPE=image/png:https://www.coel.org.uk/wp-content/uploads/2023/11/Care-To-Sing-Poster-1-1.png
END:VEVENT
END:VCALENDAR