BEGIN:VCALENDAR
VERSION:2.0
PRODID:-//Carers of East Lothian - ECPv6.15.20//NONSGML v1.0//EN
CALSCALE:GREGORIAN
METHOD:PUBLISH
X-WR-CALNAME:Carers of East Lothian
X-ORIGINAL-URL:https://www.coel.org.uk
X-WR-CALDESC:Events for Carers of East Lothian
REFRESH-INTERVAL;VALUE=DURATION:PT1H
X-Robots-Tag:noindex
X-PUBLISHED-TTL:PT1H
BEGIN:VTIMEZONE
TZID:Europe/London
BEGIN:DAYLIGHT
TZOFFSETFROM:+0000
TZOFFSETTO:+0100
TZNAME:BST
DTSTART:20290325T010000
END:DAYLIGHT
BEGIN:STANDARD
TZOFFSETFROM:+0100
TZOFFSETTO:+0000
TZNAME:GMT
DTSTART:20291028T010000
END:STANDARD
BEGIN:DAYLIGHT
TZOFFSETFROM:+0000
TZOFFSETTO:+0100
TZNAME:BST
DTSTART:20300331T010000
END:DAYLIGHT
BEGIN:STANDARD
TZOFFSETFROM:+0100
TZOFFSETTO:+0000
TZNAME:GMT
DTSTART:20301027T010000
END:STANDARD
BEGIN:DAYLIGHT
TZOFFSETFROM:+0000
TZOFFSETTO:+0100
TZNAME:BST
DTSTART:20310330T010000
END:DAYLIGHT
BEGIN:STANDARD
TZOFFSETFROM:+0100
TZOFFSETTO:+0000
TZNAME:GMT
DTSTART:20311026T010000
END:STANDARD
END:VTIMEZONE
BEGIN:VEVENT
DTSTART;TZID=Europe/London:20301106T133000
DTEND;TZID=Europe/London:20301106T150000
DTSTAMP:20260421T003130
CREATED:20231127T161943Z
LAST-MODIFIED:20251223T080827Z
UID:10002173-1920202200-1920207600@www.coel.org.uk
SUMMARY:Care To Sing - Singing Group for Carers
DESCRIPTION:Our weekly Carers Singing Group is held at East Lothian Community Hospital in the Community Hall. Please contact our Volunteer Jenny on jennyswanvolunteer@coel.org.uk if you are interested in participating.
URL:https://www.coel.org.uk/event/care-to-sing-singing-group-for-carers/2030-11-06/
LOCATION:East Lothian Community Hospital\, Alderston Road\, Haddington\, EH41 3PF
ATTACH;FMTTYPE=image/png:https://www.coel.org.uk/wp-content/uploads/2023/11/Care-To-Sing-Poster-1-1.png
END:VEVENT
BEGIN:VEVENT
DTSTART;TZID=Europe/London:20301113T133000
DTEND;TZID=Europe/London:20301113T150000
DTSTAMP:20260421T003130
CREATED:20231127T161943Z
LAST-MODIFIED:20251223T080827Z
UID:10002174-1920807000-1920812400@www.coel.org.uk
SUMMARY:Care To Sing - Singing Group for Carers
DESCRIPTION:Our weekly Carers Singing Group is held at East Lothian Community Hospital in the Community Hall. Please contact our Volunteer Jenny on jennyswanvolunteer@coel.org.uk if you are interested in participating.
URL:https://www.coel.org.uk/event/care-to-sing-singing-group-for-carers/2030-11-13/
LOCATION:East Lothian Community Hospital\, Alderston Road\, Haddington\, EH41 3PF
ATTACH;FMTTYPE=image/png:https://www.coel.org.uk/wp-content/uploads/2023/11/Care-To-Sing-Poster-1-1.png
END:VEVENT
BEGIN:VEVENT
DTSTART;TZID=Europe/London:20301120T133000
DTEND;TZID=Europe/London:20301120T150000
DTSTAMP:20260421T003130
CREATED:20231127T161943Z
LAST-MODIFIED:20251223T080827Z
UID:10002175-1921411800-1921417200@www.coel.org.uk
SUMMARY:Care To Sing - Singing Group for Carers
DESCRIPTION:Our weekly Carers Singing Group is held at East Lothian Community Hospital in the Community Hall. Please contact our Volunteer Jenny on jennyswanvolunteer@coel.org.uk if you are interested in participating.
URL:https://www.coel.org.uk/event/care-to-sing-singing-group-for-carers/2030-11-20/
LOCATION:East Lothian Community Hospital\, Alderston Road\, Haddington\, EH41 3PF
ATTACH;FMTTYPE=image/png:https://www.coel.org.uk/wp-content/uploads/2023/11/Care-To-Sing-Poster-1-1.png
END:VEVENT
BEGIN:VEVENT
DTSTART;TZID=Europe/London:20301127T133000
DTEND;TZID=Europe/London:20301127T150000
DTSTAMP:20260421T003130
CREATED:20231127T161943Z
LAST-MODIFIED:20251223T080827Z
UID:10002176-1922016600-1922022000@www.coel.org.uk
SUMMARY:Care To Sing - Singing Group for Carers
DESCRIPTION:Our weekly Carers Singing Group is held at East Lothian Community Hospital in the Community Hall. Please contact our Volunteer Jenny on jennyswanvolunteer@coel.org.uk if you are interested in participating.
URL:https://www.coel.org.uk/event/care-to-sing-singing-group-for-carers/2030-11-27/
LOCATION:East Lothian Community Hospital\, Alderston Road\, Haddington\, EH41 3PF
ATTACH;FMTTYPE=image/png:https://www.coel.org.uk/wp-content/uploads/2023/11/Care-To-Sing-Poster-1-1.png
END:VEVENT
BEGIN:VEVENT
DTSTART;TZID=Europe/London:20301204T133000
DTEND;TZID=Europe/London:20301204T150000
DTSTAMP:20260421T003130
CREATED:20231127T161943Z
LAST-MODIFIED:20251223T080827Z
UID:10002177-1922621400-1922626800@www.coel.org.uk
SUMMARY:Care To Sing - Singing Group for Carers
DESCRIPTION:Our weekly Carers Singing Group is held at East Lothian Community Hospital in the Community Hall. Please contact our Volunteer Jenny on jennyswanvolunteer@coel.org.uk if you are interested in participating.
URL:https://www.coel.org.uk/event/care-to-sing-singing-group-for-carers/2030-12-04/
LOCATION:East Lothian Community Hospital\, Alderston Road\, Haddington\, EH41 3PF
ATTACH;FMTTYPE=image/png:https://www.coel.org.uk/wp-content/uploads/2023/11/Care-To-Sing-Poster-1-1.png
END:VEVENT
BEGIN:VEVENT
DTSTART;TZID=Europe/London:20301211T133000
DTEND;TZID=Europe/London:20301211T150000
DTSTAMP:20260421T003130
CREATED:20231127T161943Z
LAST-MODIFIED:20251223T080827Z
UID:10002178-1923226200-1923231600@www.coel.org.uk
SUMMARY:Care To Sing - Singing Group for Carers
DESCRIPTION:Our weekly Carers Singing Group is held at East Lothian Community Hospital in the Community Hall. Please contact our Volunteer Jenny on jennyswanvolunteer@coel.org.uk if you are interested in participating.
URL:https://www.coel.org.uk/event/care-to-sing-singing-group-for-carers/2030-12-11/
LOCATION:East Lothian Community Hospital\, Alderston Road\, Haddington\, EH41 3PF
ATTACH;FMTTYPE=image/png:https://www.coel.org.uk/wp-content/uploads/2023/11/Care-To-Sing-Poster-1-1.png
END:VEVENT
BEGIN:VEVENT
DTSTART;TZID=Europe/London:20301218T133000
DTEND;TZID=Europe/London:20301218T150000
DTSTAMP:20260421T003130
CREATED:20231127T161943Z
LAST-MODIFIED:20251223T080827Z
UID:10002179-1923831000-1923836400@www.coel.org.uk
SUMMARY:Care To Sing - Singing Group for Carers
DESCRIPTION:Our weekly Carers Singing Group is held at East Lothian Community Hospital in the Community Hall. Please contact our Volunteer Jenny on jennyswanvolunteer@coel.org.uk if you are interested in participating.
URL:https://www.coel.org.uk/event/care-to-sing-singing-group-for-carers/2030-12-18/
LOCATION:East Lothian Community Hospital\, Alderston Road\, Haddington\, EH41 3PF
ATTACH;FMTTYPE=image/png:https://www.coel.org.uk/wp-content/uploads/2023/11/Care-To-Sing-Poster-1-1.png
END:VEVENT
END:VCALENDAR